View In:
ArcGIS JavaScript
ArcGIS Online Map Viewer
ArcGIS Earth
Service Description: DigitalElevationModel/Slope
Name: DigitalElevationModel/Slope
Description:
Single Fused Map Cache: false
Extent:
XMin: 606661.4970051422
YMin: 1499854.4816625733
XMax: 641455.4970051422
YMax: 1520113.4816625733
Spatial Reference: 102970
(6557)
LatestVCSWkid(0)
Initial Extent:
XMin: 606661.4970051422
YMin: 1499854.4816625733
XMax: 641455.4970051422
YMax: 1520113.4816625733
Spatial Reference: 102970
(6557)
LatestVCSWkid(0)
Full Extent:
XMin: 606661.4970051422
YMin: 1499854.4816625733
XMax: 641455.4970051422
YMax: 1520113.4816625733
Spatial Reference: 102970
(6557)
LatestVCSWkid(0)
Pixel Size X: 9.0
Pixel Size Y: 9.0
Band Count: 1
Pixel Type: F32
RasterFunction Infos: {"rasterFunctionInfos": [{
"name": "None",
"description": "",
"help": ""
}]}
Mensuration Capabilities: Basic
Inspection Capabilities:
Has Histograms: true
Has Colormap: false
Has Multi Dimensions : false
Rendering Rule:
Min Scale: 0
Max Scale: 0
Copyright Text:
Service Data Type: esriImageServiceDataTypeGeneric
Min Values: 5.451357537822332E-6
Max Values: 73.2640609741211
Mean Values: 11.435739228353583
Standard Deviation Values: 10.262337481010071
Object ID Field:
Fields:
None
Default Mosaic Method: Center
Allowed Mosaic Methods:
SortField:
SortValue: null
Mosaic Operator: First
Default Compression Quality: 75
Default Resampling Method: Bilinear
Max Record Count: null
Max Image Height: 4100
Max Image Width: 15000
Max Download Image Count: null
Max Mosaic Image Count: null
Allow Raster Function: true
Allow Copy: true
Allow Analysis: true
Allow Compute TiePoints: false
Supports Statistics: false
Supports Advanced Queries: false
Use StandardizedQueries: true
Raster Type Infos:
Name: Raster Dataset
Description: Supports all ArcGIS Raster Datasets
Help:
Has Raster Attribute Table: false
Edit Fields Info: null
Ownership Based AccessControl For Rasters: null
Child Resources:
Info
Histograms
Statistics
Key Properties
Legend
Raster Function Infos
Supported Operations:
Export Image
Identify
Measure
Compute Histograms
Compute Statistics Histograms
Get Samples
Compute Class Statistics
Query Boundary
Compute Pixel Location
Compute Angles
Validate
Project